BEGIN:VCALENDAR
VERSION:2.0
PRODID:spatie/icalendar-generator
DESCRIPTION:Veranstaltungen von PSK Stuttgart Esslingen
X-WR-CALDESC:Veranstaltungen von PSK Stuttgart Esslingen
REFRESH-INTERVAL;VALUE=DURATION:PT1440M
X-PUBLISHED-TTL:PT1440M
BEGIN:VTIMEZONE
TZID:Europe/Berlin
BEGIN:STANDARD
DTSTART:20251026T030000Z
TZOFFSETFROM:+0200
TZOFFSETTO:+0100
END:STANDARD
BEGIN:DAYLIGHT
DTSTART:20260329T020000Z
TZOFFSETFROM:+0100
TZOFFSETTO:+0200
END:DAYLIGHT
BEGIN:STANDARD
DTSTART:20261025T030000Z
TZOFFSETFROM:+0200
TZOFFSETTO:+0100
END:STANDARD
END:VTIMEZONE
BEGIN:VTIMEZONE
TZID:UTC
BEGIN:STANDARD
DTSTART:20250726T115714Z
TZOFFSETFROM:+0000
TZOFFSETTO:+0000
END:STANDARD
END:VTIMEZONE
BEGIN:VEVENT
UID:74-28
DTSTAMP:20260422T115714Z
SUMMARY:2026-LF2 - 2026 Trainingswochenende für Ein- und Zweispänner 2
LOCATION:RFV Filderstadt Seestr. 19  Filderstadt  70794
ORGANIZER;CN=admin_psk:MAILTO:info@mhock-it.de
DTSTART;TZID=Europe/Berlin;VALUE=DATE:20260501
DTEND;TZID=Europe/Berlin;VALUE=DATE:20260503
X-ALT-DESC;FMTTYPE=TEXT/HTML:<p>Fahrtraining mit Frau Brigitte Brauchle bei
 m RFV Filderstadt (Außenplatz)\, Seestr. 19\, 70794 Filderstadt</p>\n
CATEGORIES:General
URL;VALUE=URI:https://psk-stuttgart-esslingen.de/psk_wp/my-calendar/?Itemid
 =320&#038;mc_id=74&#038;vcal=74
METHOD:PUBLISH
END:VEVENT
END:VCALENDAR